BEGIN:VCALENDAR
VERSION:2.0
PRODID:-//Tukios.com/
BEGIN:VEVENT
UID:1bba5818-7b06-48b7-8bb9-2f96acb6f183@www.fostertolercurryfh.com
DTSTAMP:20260420T044231Z
DTSTART:20260421
SUMMARY:Burial
DESCRIPTION:
URL:https://www.fostertolercurryfh.com/obituaries/juanita-mcintosh
LOCATION:  Gabe Road  Greensburg KY 42743
GEO:37.3112934;-85.5710054
END:VEVENT
END:VCALENDAR