BEGIN:VCALENDAR
VERSION:2.0
PRODID:-//Tukios.com/
BEGIN:VEVENT
UID:e107d926-2591-4d6d-b8b3-b66b9241e75e@www.fostertolercurryfh.com
DTSTAMP:20260420T043629Z
DTSTART:20260421T170000Z
DTEND:20260421T180000Z
SUMMARY:Funeral Service
DESCRIPTION:
URL:https://www.fostertolercurryfh.com/obituaries/juanita-mcintosh
LOCATION: 1696 Hudgins Hwy.  Summersville KY 42782
GEO:37.3458089;-85.5980459
END:VEVENT
END:VCALENDAR