BEGIN:VCALENDAR
VERSION:2.0
PRODID:-//Tukios.com/
BEGIN:VEVENT
UID:1a61a480-6b82-4e04-9979-fc40495a09fc@www.fostertolercurryfh.com
DTSTAMP:20260420T043924Z
DTSTART:20260421T150000Z
DTEND:20260421T170000Z
SUMMARY:Visitation
DESCRIPTION:
URL:https://www.fostertolercurryfh.com/obituaries/juanita-mcintosh
LOCATION:New Water Missionary Baptist Church 1696 Hudgins Hwy.  
	Summersville KY 42782
GEO:37.3458089;-85.5980459
END:VEVENT
END:VCALENDAR