BEGIN:VCALENDAR
VERSION:2.0
PRODID:-//Tukios.com/
BEGIN:VEVENT
UID:3470e45f-dbea-4e52-b43c-db1ca38fd215@www.fostertolercurryfh.com
DTSTAMP:20260420T044107Z
DTSTART:20260421T120000Z
DTEND:20260421T140000Z
SUMMARY:Visitation
DESCRIPTION:
URL:https://www.fostertolercurryfh.com/obituaries/juanita-mcintosh
LOCATION: 209 W Court St  Greensburg KY 42743
GEO:37.2613486;-85.5041283
END:VEVENT
END:VCALENDAR