BEGIN:VCALENDAR
VERSION:2.0
PRODID:-//Tukios.com/
BEGIN:VEVENT
UID:285482d5-a90c-487d-8b92-49ef7591149a@www.fostertolercurryfh.com
DTSTAMP:20260420T044348Z
DTSTART:20260420T220000Z
DTEND:20260421T010000Z
SUMMARY:Visitation
DESCRIPTION:
URL:https://www.fostertolercurryfh.com/obituaries/juanita-mcintosh
LOCATION: 209 W Court St  Greensburg KY 42743
GEO:37.2613486;-85.5041283
END:VEVENT
END:VCALENDAR